BEGIN:VCALENDAR
VERSION:2.0
PRODID:spatie/icalendar-generator
DESCRIPTION:Veranstaltungen von Katholische Kirche im Rheinbogen
X-WR-CALDESC:Veranstaltungen von Katholische Kirche im Rheinbogen
REFRESH-INTERVAL;VALUE=DURATION:PT1440M
X-PUBLISHED-TTL:PT1440M
BEGIN:VTIMEZONE
TZID:Europe/Berlin
BEGIN:STANDARD
DTSTART:20251026T030000Z
TZOFFSETFROM:+0200
TZOFFSETTO:+0100
END:STANDARD
BEGIN:DAYLIGHT
DTSTART:20260329T020000Z
TZOFFSETFROM:+0100
TZOFFSETTO:+0200
END:DAYLIGHT
BEGIN:STANDARD
DTSTART:20261025T030000Z
TZOFFSETFROM:+0200
TZOFFSETTO:+0100
END:STANDARD
END:VTIMEZONE
BEGIN:VTIMEZONE
TZID:UTC
BEGIN:STANDARD
DTSTART:20250726T134338Z
TZOFFSETFROM:+0000
TZOFFSETTO:+0000
END:STANDARD
END:VTIMEZONE
BEGIN:VEVENT
UID:230-171
DTSTAMP:20260422T134338Z
SUMMARY:Kirche Kunterbunt im Kölner Süden
LOCATION:Auferstehungskirche Köln-Sürth
ORGANIZER;CN=Thomas Felshart:MAILTO:thomas.felshart@felshart.de
DTSTART;TZID=Europe/Berlin:20260509T143000
DTEND;TZID=Europe/Berlin:20260509T180000
X-ALT-DESC;FMTTYPE=TEXT/HTML:
CATEGORIES:Kinder &amp; Familien
URL;VALUE=URI:https://www.rheinbogen-kirche.de/mc-events/kirche-kunterbunt-
 im-koelner-sueden-2/
METHOD:PUBLISH
END:VEVENT
END:VCALENDAR